BEGIN:VCALENDAR
VERSION:2.0
PRODID:-//Church Admin Plugin//Website//EN
CALSCALE:GREGORIAN
METHOD:PUBLISH
BEGIN:VEVENT
UID:bible-class-for-all-ages
TRANSP:OPAQUE
X-APPLE-TRAVEL-ADVISORY-BEHAVIOR:AUTOMATIC
DTSTART;VALUE=DATE:20260517T090000
DTEND;VALUE=DATE:20260517T094500
DTSTAMP:20260421T101525Z
CATEGORIES:Bible Class
LOCATION:
DESCRIPTION:
SUMMARY:Bible Class for all ages!
END:VEVENT
END:VCALENDAR