BEGIN:VCALENDAR
VERSION:2.0
PRODID:-//Church Admin Plugin//Website//EN
CALSCALE:GREGORIAN
METHOD:PUBLISH
BEGIN:VEVENT
UID:singing
TRANSP:OPAQUE
X-APPLE-TRAVEL-ADVISORY-BEHAVIOR:AUTOMATIC
DTSTART;VALUE=DATE:20260503T130000
DTEND;VALUE=DATE:20260503T140000
DTSTAMP:20260421T101056Z
CATEGORIES:Singing
LOCATION:
DESCRIPTION:
SUMMARY:Singing
END:VEVENT
END:VCALENDAR